


BEGIN:VCALENDAR
VERSION:2.0
PRODID:-//Bokförlaget Tranan - ECPv6.15.20//NONSGML v1.0//EN
CALSCALE:GREGORIAN
METHOD:PUBLISH
X-WR-CALNAME:Bokförlaget Tranan
X-ORIGINAL-URL:https://tranan.nu
X-WR-CALDESC:Händelser för Bokförlaget Tranan
REFRESH-INTERVAL;VALUE=DURATION:PT1H
X-Robots-Tag:noindex
X-PUBLISHED-TTL:PT1H
BEGIN:VTIMEZONE
TZID:Europe/Paris
BEGIN:DAYLIGHT
TZOFFSETFROM:+0100
TZOFFSETTO:+0200
TZNAME:CEST
DTSTART:20250330T010000
END:DAYLIGHT
BEGIN:STANDARD
TZOFFSETFROM:+0200
TZOFFSETTO:+0100
TZNAME:CET
DTSTART:20251026T010000
END:STANDARD
BEGIN:DAYLIGHT
TZOFFSETFROM:+0100
TZOFFSETTO:+0200
TZNAME:CEST
DTSTART:20260329T010000
END:DAYLIGHT
BEGIN:STANDARD
TZOFFSETFROM:+0200
TZOFFSETTO:+0100
TZNAME:CET
DTSTART:20261025T010000
END:STANDARD
BEGIN:DAYLIGHT
TZOFFSETFROM:+0100
TZOFFSETTO:+0200
TZNAME:CEST
DTSTART:20270328T010000
END:DAYLIGHT
BEGIN:STANDARD
TZOFFSETFROM:+0200
TZOFFSETTO:+0100
TZNAME:CET
DTSTART:20271031T010000
END:STANDARD
END:VTIMEZONE
BEGIN:VEVENT
DTSTART;TZID=Europe/Paris:20260423T193000
DTEND;TZID=Europe/Paris:20260423T210000
DTSTAMP:20260423T013221
CREATED:20260114T145550Z
LAST-MODIFIED:20260114T145550Z
UID:59571-1776972600-1776978000@tranan.nu
SUMMARY:Kathrine Nedrejord på Internationell författarscen\, Stockholm
DESCRIPTION:Möt Kathrine Nedrejord i samtal med Mats Jonsson på Internationell författarscen den 23 april. Med den prisbelönta romanen ”Sameproblemet” har den samiska författaren Kathrine Nedrejord skrivit en upprorisk familjeberättelse om samisk kultur\, identitet och ett liv präglat av förtryck. Vinnare av Bragepriset 2024.
URL:https://tranan.nu/vad/kathrine-nedrejord-pa-internationell-forfattarscen-stockholm/
LOCATION:Kulturhuset Stadsteatern\, Sergels torg\, Stockholm
END:VEVENT
END:VCALENDAR